BEGIN:VCALENDAR
VERSION:2.0
CALSCALE:GREGORIAN
METHOD:PUBLISH
X-WR-TIMEZONE:Australia/Sydney
BEGIN:VTIMEZONE
TZID:Australia/Sydney
BEGIN:STANDARD
TZNAME:AEST
DTSTART:19700101T000000
TZOFFSETFROM:+1100
TZOFFSETTO:+1000
END:STANDARD
END:VTIMEZONE
BEGIN:VEVENT
DTSTART;TZID=Australia/Sydney:20180228T090000
DTEND;TZID=Australia/Sydney:20180228T050000
DTSTAMP:20260425T002212
UID:86
SUMMARY:Year 12 Legal Excursion
DESCRIPTION:Marngoneet Prison, Lara
Students have the opportunity to meet with Corrections Victoria staff and a selection of convicted offenders
Full school uniform
Private coach
BYO lunch, unable&amp;nbsp;to purchase lunch at the venue
SEQUENCE:0
STATUS:CONFIRMED
TRANSP:OPAQUE
END:VEVENT
END:VCALENDAR