BEGIN:VCALENDAR
VERSION:2.0
CALSCALE:GREGORIAN
METHOD:PUBLISH
X-WR-TIMEZONE:Australia/Sydney
BEGIN:VTIMEZONE
TZID:Australia/Sydney
BEGIN:STANDARD
TZNAME:AEST
END:STANDARD
END:VTIMEZONE
BEGIN:VEVENT
DTSTART;TZID=Australia/Sydney:20190325T090000
DTEND;TZID=Australia/Sydney:20190325T150000
DTSTAMP:20190228T230756
UID:151
SUMMARY:Immunisations Year 7
DESCRIPTION:




Secondary School Vaccination Progam - Mitchell Shire Council


SEQUENCE:0
STATUS:CONFIRMED
TRANSP:OPAQUE
END:VEVENT
END:VCALENDAR